BEGIN:VCALENDAR
VERSION:2.0
PRODID:-//Brown&#039;s Creek Watershed District - ECPv6.15.20//NONSGML v1.0//EN
CALSCALE:GREGORIAN
METHOD:PUBLISH
X-ORIGINAL-URL:https://bcwd.org
X-WR-CALDESC:Events for Brown&#039;s Creek Watershed District
REFRESH-INTERVAL;VALUE=DURATION:PT1H
X-Robots-Tag:noindex
X-PUBLISHED-TTL:PT1H
BEGIN:VTIMEZONE
TZID:America/Chicago
BEGIN:DAYLIGHT
TZOFFSETFROM:-0600
TZOFFSETTO:-0500
TZNAME:CDT
DTSTART:20250309T080000
END:DAYLIGHT
BEGIN:STANDARD
TZOFFSETFROM:-0500
TZOFFSETTO:-0600
TZNAME:CST
DTSTART:20251102T070000
END:STANDARD
BEGIN:DAYLIGHT
TZOFFSETFROM:-0600
TZOFFSETTO:-0500
TZNAME:CDT
DTSTART:20260308T080000
END:DAYLIGHT
BEGIN:STANDARD
TZOFFSETFROM:-0500
TZOFFSETTO:-0600
TZNAME:CST
DTSTART:20261101T070000
END:STANDARD
BEGIN:DAYLIGHT
TZOFFSETFROM:-0600
TZOFFSETTO:-0500
TZNAME:CDT
DTSTART:20270314T080000
END:DAYLIGHT
BEGIN:STANDARD
TZOFFSETFROM:-0500
TZOFFSETTO:-0600
TZNAME:CST
DTSTART:20271107T070000
END:STANDARD
END:VTIMEZONE
BEGIN:VEVENT
DTSTART;TZID=America/Chicago:20260509T070000
DTEND;TZID=America/Chicago:20260509T093000
DTSTAMP:20260423T134224
CREATED:20260407T134311Z
LAST-MODIFIED:20260407T134311Z
UID:6022-1778310000-1778319000@bcwd.org
SUMMARY:Gateway Trail and Brown's Creek Bird Walks
DESCRIPTION:Join our local trail partners on two bird walks on May 9th. \nGateway Trail Bird Walk\nTIME: 7:00-8:00 a.m.\nLOCATION: Gateway Trail/Hwy 96 Crossing\, located at Gateway State Trail\, Stillwater\, MN 55082 (GPS COORDINATES: 45.079640994222714\, -92.89679903385633)\nINFORMATION:  We will leave the parking lot at 7:00 a.m. and return to the starting point at 8:00 a.m.  We will identify as many species as we can by sight and sound during the hour. Bring binoculars if you have them. This is usually a good time and place to see migrant warblers. \nBrown’s Creek Trail Bird Walk\nTIME: 8:30-9:30 a.m.\nLOCATION: Brown’s Creek Nature Preserve\, located at Brown’s Creek State Trail\, Stillwater\, MN 55082 (GPS COORDINATES: 45.070340\, -92.844382)\nINFORMATION: We will leave the nature preserve parking area at 8:30 a.m. and return to the starting point at 9:30 a.m.  Again\, we will identify as many species as we can by sight and sound during the hour. Bring binoculars if you have them. This is usually a good time and place to see resident and spring migrant birds. \nWEATHER CONTINGENCY: Drizzle or light rain is OK\, but the walks will be cancelled if it’s very windy or significant precipitation is likely. If in doubt\, text Marie Culhane at 651-353-5782 on the day of the event. \nThere is no cost and no registration required for either of these events. Contact Marie Culhane for more information and to get on the email list: bugrunner01@gmail.com.
URL:https://bcwd.org/events-calendar/gateway-trail-and-browns-creek-bird-walks/
END:VEVENT
END:VCALENDAR