BEGIN:VCALENDAR
VERSION:2.0
PRODID:-//Brown&#039;s Creek Watershed District - ECPv6.15.20//NONSGML v1.0//EN
CALSCALE:GREGORIAN
METHOD:PUBLISH
X-WR-CALNAME:Brown&#039;s Creek Watershed District
X-ORIGINAL-URL:https://bcwd.org
X-WR-CALDESC:Events for Brown&#039;s Creek Watershed District
REFRESH-INTERVAL;VALUE=DURATION:PT1H
X-Robots-Tag:noindex
X-PUBLISHED-TTL:PT1H
BEGIN:VTIMEZONE
TZID:America/Chicago
BEGIN:DAYLIGHT
TZOFFSETFROM:-0600
TZOFFSETTO:-0500
TZNAME:CDT
DTSTART:20250309T080000
END:DAYLIGHT
BEGIN:STANDARD
TZOFFSETFROM:-0500
TZOFFSETTO:-0600
TZNAME:CST
DTSTART:20251102T070000
END:STANDARD
BEGIN:DAYLIGHT
TZOFFSETFROM:-0600
TZOFFSETTO:-0500
TZNAME:CDT
DTSTART:20260308T080000
END:DAYLIGHT
BEGIN:STANDARD
TZOFFSETFROM:-0500
TZOFFSETTO:-0600
TZNAME:CST
DTSTART:20261101T070000
END:STANDARD
BEGIN:DAYLIGHT
TZOFFSETFROM:-0600
TZOFFSETTO:-0500
TZNAME:CDT
DTSTART:20270314T080000
END:DAYLIGHT
BEGIN:STANDARD
TZOFFSETFROM:-0500
TZOFFSETTO:-0600
TZNAME:CST
DTSTART:20271107T070000
END:STANDARD
END:VTIMEZONE
BEGIN:VEVENT
DTSTART;TZID=America/Chicago:20260616T183000
DTEND;TZID=America/Chicago:20260616T200000
DTSTAMP:20260423T154340
CREATED:20260324T140135Z
LAST-MODIFIED:20260324T140135Z
UID:5954-1781634600-1781640000@bcwd.org
SUMMARY:Trail Walk at the Lakes at Stillwater
DESCRIPTION:Join Brown’s Creek Watershed District for a walk on the Lakes at Stillwater’s paved trail. This will be a great opportunity for community members to get out and learn more about the unique plants\, wildlife\, and water features of the watershed. We will meet on the main patio outside the lobby at 6:30 and divide into groups depending on desired walk length.  \nSignup to attend this and other free BCWD events at https://forms.gle/94WBkGWC1XKXK5gr7
URL:https://bcwd.org/events-calendar/trail-walk-at-the-lakes-at-stillwater/
LOCATION:The Lakes at Stillwater\, 107 Bridgewater Way\, Stillwater\, MN\, 55082
CATEGORIES:CAC meeting,Community Event
ATTACH;FMTTYPE=image/jpeg:https://bcwd.org/wp-content/uploads/2026/03/IMG_2072-scaled.jpg
ORGANIZER;CN="BCWD":MAILTO:karen.kill@mnwcd.org
END:VEVENT
END:VCALENDAR