BEGIN:VCALENDAR
VERSION:2.0
PRODID:-//Brown&#039;s Creek Watershed District - ECPv6.15.20//NONSGML v1.0//EN
CALSCALE:GREGORIAN
METHOD:PUBLISH
X-WR-CALNAME:Brown&#039;s Creek Watershed District
X-ORIGINAL-URL:https://bcwd.org
X-WR-CALDESC:Events for Brown&#039;s Creek Watershed District
REFRESH-INTERVAL;VALUE=DURATION:PT1H
X-Robots-Tag:noindex
X-PUBLISHED-TTL:PT1H
BEGIN:VTIMEZONE
TZID:America/Chicago
BEGIN:DAYLIGHT
TZOFFSETFROM:-0600
TZOFFSETTO:-0500
TZNAME:CDT
DTSTART:20250309T080000
END:DAYLIGHT
BEGIN:STANDARD
TZOFFSETFROM:-0500
TZOFFSETTO:-0600
TZNAME:CST
DTSTART:20251102T070000
END:STANDARD
BEGIN:DAYLIGHT
TZOFFSETFROM:-0600
TZOFFSETTO:-0500
TZNAME:CDT
DTSTART:20260308T080000
END:DAYLIGHT
BEGIN:STANDARD
TZOFFSETFROM:-0500
TZOFFSETTO:-0600
TZNAME:CST
DTSTART:20261101T070000
END:STANDARD
BEGIN:DAYLIGHT
TZOFFSETFROM:-0600
TZOFFSETTO:-0500
TZNAME:CDT
DTSTART:20270314T080000
END:DAYLIGHT
BEGIN:STANDARD
TZOFFSETFROM:-0500
TZOFFSETTO:-0600
TZNAME:CST
DTSTART:20271107T070000
END:STANDARD
END:VTIMEZONE
BEGIN:VEVENT
DTSTART;TZID=America/Chicago:20260209T180000
DTEND;TZID=America/Chicago:20260209T200000
DTSTAMP:20260423T142609
CREATED:20251210T185644Z
LAST-MODIFIED:20251210T190218Z
UID:5462-1770660000-1770667200@bcwd.org
SUMMARY:CAC Meeting - February 2026
DESCRIPTION:Click here for meeting materials \nCitizen Advisory Committee meetings are held at the Lakes of Stillwater Reflections Room. \nThe hybrid option Zoom link is available in the Agenda which is available by clicking the link above for the meeting materials. \nTo volunteer for the CAC click here to learn more and to complete an application
URL:https://bcwd.org/events-calendar/cac-meeting-february-2026/
LOCATION:The Lakes at Stillwater\, 107 Bridgewater Way\, Stillwater\, MN\, 55082
CATEGORIES:CAC meeting
ATTACH;FMTTYPE=image/jpeg:https://bcwd.org/wp-content/uploads/2025/12/CAC-Cover-Photo-2026-scaled.jpg
ORGANIZER;CN="BCWD":MAILTO:karen.kill@mnwcd.org
END:VEVENT
END:VCALENDAR