BEGIN:VCALENDAR
VERSION:2.0
PRODID:-//Brown&#039;s Creek Watershed District - ECPv6.15.20//NONSGML v1.0//EN
CALSCALE:GREGORIAN
METHOD:PUBLISH
X-ORIGINAL-URL:https://bcwd.org
X-WR-CALDESC:Events for Brown&#039;s Creek Watershed District
REFRESH-INTERVAL;VALUE=DURATION:PT1H
X-Robots-Tag:noindex
X-PUBLISHED-TTL:PT1H
BEGIN:VTIMEZONE
TZID:America/Chicago
BEGIN:DAYLIGHT
TZOFFSETFROM:-0600
TZOFFSETTO:-0500
TZNAME:CDT
DTSTART:20250309T080000
END:DAYLIGHT
BEGIN:STANDARD
TZOFFSETFROM:-0500
TZOFFSETTO:-0600
TZNAME:CST
DTSTART:20251102T070000
END:STANDARD
BEGIN:DAYLIGHT
TZOFFSETFROM:-0600
TZOFFSETTO:-0500
TZNAME:CDT
DTSTART:20260308T080000
END:DAYLIGHT
BEGIN:STANDARD
TZOFFSETFROM:-0500
TZOFFSETTO:-0600
TZNAME:CST
DTSTART:20261101T070000
END:STANDARD
BEGIN:DAYLIGHT
TZOFFSETFROM:-0600
TZOFFSETTO:-0500
TZNAME:CDT
DTSTART:20270314T080000
END:DAYLIGHT
BEGIN:STANDARD
TZOFFSETFROM:-0500
TZOFFSETTO:-0600
TZNAME:CST
DTSTART:20271107T070000
END:STANDARD
END:VTIMEZONE
BEGIN:VEVENT
DTSTART;TZID=America/Chicago:20260418T080000
DTEND;TZID=America/Chicago:20260418T100000
DTSTAMP:20260423T100609
CREATED:20260302T215954Z
LAST-MODIFIED:20260302T215954Z
UID:5827-1776499200-1776506400@bcwd.org
SUMMARY:Long Lake Birding Tour
DESCRIPTION:Join the Community Advisory Committee and Bird City Stillwater on a tour to look for water birds around Long Lake.\n\nWe will be walking on the asphalt trail along the west side of Long Lake and will be identifying birds in the water and sky. Bring your binoculars and spotting scope if you have one.\n\nWe will meet at the end of 62nd St N in Stillwater: just past the intersection of 62nd St N & Legend Blvd (south of the Legends neighborhood).\n\nSignup to attend at https://forms.gle/FhpKGH8B1tEHhyV68
URL:https://bcwd.org/events-calendar/long-lake-birding-tour/
LOCATION:62nd Street North\, 12287 62nd St N\, MN\, 55082\, United States
CATEGORIES:CAC meeting,Community Event,Open Yard Event
ATTACH;FMTTYPE=image/png:https://bcwd.org/wp-content/uploads/2025/03/Water-Bird-1_Geese.png
ORGANIZER;CN="Community Advisory Committee (CAC)":MAILTO:hpeterson@mnwcd.org
END:VEVENT
END:VCALENDAR